BEGIN:VCALENDAR
VERSION:2.0
PRODID:-//Bygget - ECPv6.15.13.1//NONSGML v1.0//EN
CALSCALE:GREGORIAN
METHOD:PUBLISH
X-WR-CALNAME:Bygget
X-ORIGINAL-URL:https://bygget.se
X-WR-CALDESC:Händelser för Bygget
REFRESH-INTERVAL;VALUE=DURATION:PT1H
X-Robots-Tag:noindex
X-PUBLISHED-TTL:PT1H
BEGIN:VTIMEZONE
TZID:Europe/Stockholm
BEGIN:DAYLIGHT
TZOFFSETFROM:+0100
TZOFFSETTO:+0200
TZNAME:CEST
DTSTART:20250330T010000
END:DAYLIGHT
BEGIN:STANDARD
TZOFFSETFROM:+0200
TZOFFSETTO:+0100
TZNAME:CET
DTSTART:20251026T010000
END:STANDARD
BEGIN:DAYLIGHT
TZOFFSETFROM:+0100
TZOFFSETTO:+0200
TZNAME:CEST
DTSTART:20260329T010000
END:DAYLIGHT
BEGIN:STANDARD
TZOFFSETFROM:+0200
TZOFFSETTO:+0100
TZNAME:CET
DTSTART:20261025T010000
END:STANDARD
BEGIN:DAYLIGHT
TZOFFSETFROM:+0100
TZOFFSETTO:+0200
TZNAME:CEST
DTSTART:20270328T010000
END:DAYLIGHT
BEGIN:STANDARD
TZOFFSETFROM:+0200
TZOFFSETTO:+0100
TZNAME:CET
DTSTART:20271031T010000
END:STANDARD
END:VTIMEZONE
BEGIN:VEVENT
DTSTART;TZID=Europe/Stockholm:20260326T220000
DTEND;TZID=Europe/Stockholm:20260326T220000
DTSTAMP:20260424T211148
CREATED:20260220T171716Z
LAST-MODIFIED:20260312T132442Z
UID:10002263-1774562400-1774562400@bygget.se
SUMMARY:RIX FIM I FJÄLLEN - TJUVJAKT
DESCRIPTION:Tjuvjakt har under det senaste decenniet vuxit fram som en av Sveriges mest tongivande och älskade musikgrupper. Sedan starten har de släppt flera hyllade album\, ett pärlband av singlar och stått på landets allra största scener\, något som placerat dom i centrum av svensk musik. Deras liveframträdanden är kända för att vara energifyllda\, intima och fulla av närvaro vilket befäst Tjuvjakts position som en av Sveriges bästa liveakter. \n\n\nI maj 2025 släppte Tjuvjakt singeln “Tusen Spänn”\, ett samarbete med artisten\, låtskrivaren och producenten Fanny Avonne. Låten är en emotionell berättelse om destruktiva relationer och svårigheten i att släppa taget\, och kombinerar Tjuvjakts karaktäristiska stil med Avonnes känsliga och personliga uttryck. Sedan releasen har “Tusen Spänn” legat etta på den svenska topplistan\, vilket gör den till en av Tjuvjakts största kommersiella framgångar hittills. Tjuvjakt visar gång på gång att de behärskar konsten att utvecklas utan att förlora sin identitet. \n\n\nTjuvjakt består av Olle Grafström\, Arvid Lundquist\, Kid Eriksson\, Jesper Swärd och Fredrik ”Woodz” Eriksson. \nTjuvjakt har spelat ett otal gånger hos oss på Bygget och vi är så glada att få hälsa dom tillbaka igen under Rix FM i Fjällen 2026 \nDatum: Torsdag 26 Mars \nInsläpp: 22.00 \nKonsert: 23.00 \nLägsta ålder: 18 år
URL:https://bygget.se/event/rix-fim-i-fjallen-tjuvjakt/
LOCATION:Bygget\, Årevägen 172A\, Åre\, 83752\, Sverige
CATEGORIES:Featured,Live,Nattklubb,Rix FM
ATTACH;FMTTYPE=image/png:https://bygget.se/wp-content/uploads/2026/03/RixFM_Banner.png
END:VEVENT
BEGIN:VEVENT
DTSTART;TZID=Europe/Stockholm:20260327T220000
DTEND;TZID=Europe/Stockholm:20260327T220000
DTSTAMP:20260424T211148
CREATED:20260312T132622Z
LAST-MODIFIED:20260312T132717Z
UID:10002202-1774648800-1774648800@bygget.se
SUMMARY:RIX FM i FJÄLLEN med GRECZULA
DESCRIPTION:En av Sveriges mest explosiva nya stjärnor heter Greczula. 2025 tog han landet med storm när han flög genom tv-rutan i Melodifestivalen – och landade på en hyllad tredjeplats med låten “Believe Me”. Efter framgångarna i Melodifestivalen har han blivit en storfavorit hos hela svenska folket. 2026 var han tillbaka i tävlingen med låten ”Half of Me” som tog honom direkt till final och där han slutade på en 2:a plats! \nHösten 2025 släppte han sitt självbetitlade andra album\, ”Greczula”. Albumet följdes upp i december av en deluxe version med tre helt nya låtar. Han avslutade kanonåret 2025 med att framträda i ”Tolvslaget På Skansen” inför jublande publik och 1\,7 miljoner TV-tittare. \nMed en ljudvärld som för tankarna till Abba\, Queen och Prince\, men med en själ och nerv som är helt hans egen\, har Greczula cementerat sig som en artist som suddar ut gränsen mellan det klassiska och det moderna. Hans energi på scen\, hans röst och hans kompromisslösa uttryck har gjort honom till en av de mest spännande liveartisterna i landet just nu. \nVi är superglada att för första gången presentera Greczula på Bygget i samarbete med RIX FM i Fjällen! \nFredag 27 Mars \nInsläpp 22.00 \nPå scen: 23.00 \nLägsta ålder 20 år
URL:https://bygget.se/event/rix-fm-i-fjallen-med-greczula/
LOCATION:Bygget\, Årevägen 172A\, Åre\, 83752\, Sverige
CATEGORIES:Featured,Live,Nattklubb,Rix FM
ATTACH;FMTTYPE=image/png:https://bygget.se/wp-content/uploads/2026/03/RixFM_Banner.png
END:VEVENT
BEGIN:VEVENT
DTSTART;TZID=Europe/Stockholm:20260328T220000
DTEND;TZID=Europe/Stockholm:20260328T220000
DTSTAMP:20260424T211148
CREATED:20260312T132754Z
LAST-MODIFIED:20260312T132754Z
UID:10002203-1774735200-1774735200@bygget.se
SUMMARY:RIX FM i FJÄLLEN med LIAMOO
DESCRIPTION:2016 vann LIAMOO Idol och han vann även svenska folkets hjärtan med sin förmåga att både rappa och sjunga och är sen dess en av Sveriges mest framstående popartister. Vinsten följdes upp av den framgångsrika vinnarlåten ”Playing With Fire” som sålt platina i Sverige. \nHan har sedan dess släppt sin debut EP “Journey Part I”\, singlarna “Forever You” och “Got Damn! (W.O.M.A.N)” med svenska DJ:n och producenten John De Sohn\, singeln ”Thinking About You” skriven tillsammans med hyllade duon Jubël och ”Issues”. \nLIAMOO har medverkat i Melodifestivalen med låtarna “Last Breath”\, “Hold You” som är en duett tillsammans med Hanna Ferm\, ”Bluffin” \, ”Dragon” samt som låtskrivare till Paul Reys låt ”Royals” 2023. \nVi är väldigt glada att hälsa Liamoo tillbaka till Byggets Scen i samarbete med RIX FM i Fjällen! \nLördag 28 Mars \nInsläpp från 22.00 \nÅlder: 20 år
URL:https://bygget.se/event/rix-fm-i-fjallen-med-liamoo/
LOCATION:Bygget\, Årevägen 172A\, Åre\, 83752\, Sverige
CATEGORIES:Featured,Live,Nattklubb,Rix FM
ATTACH;FMTTYPE=image/png:https://bygget.se/wp-content/uploads/2026/03/RixFM_Banner.png
END:VEVENT
BEGIN:VEVENT
DTSTART;TZID=Europe/Stockholm:20260328T220000
DTEND;TZID=Europe/Stockholm:20260328T220000
DTSTAMP:20260424T211148
CREATED:20260312T133002Z
LAST-MODIFIED:20260312T133002Z
UID:10002265-1774735200-1774735200@bygget.se
SUMMARY:RIX FM i FJÄLLEN med FELICIA
DESCRIPTION:Felicia lär väl knappast behöva någon större presentation vid det här laget. Som överlägsen vinnare av Melodifestivalen 2026 med låten ”My System” är hon nu artisten på allas läppar. \nFELICIAS nya sound efter att ha lämnat Fröken Snusk bakom sig beskriver hon själv som ”2010-talets pop möter 2025”. Dansant\, självsäkert och fullt av energi. Med catchiga refränger och drops som lyfter dansgolvet\, visar hon en ny sida av sig själv. Hon har varit delaktig i varje steg i musikprocessen och samarbetat med låtskrivare och producenter med imponerande meritlistor. \n”Nu är det min tid för att göra det jag älskar\, för dem jag älskar – mina fans. Utan dem\, inget jag. Jag är så otroligt glad och rörd över all kärlek jag får av dem och jag är så sjukt peppad på att få visa dem\, och alla andra\, vem Felicia är. Iiiih\, det är så nervöst!”\, säger FELICIA \nFörvandlingen från det förflutna till Felicia markerar starten på ett nytt kapitel. På bara några månader har hon byggt en stark och organisk närvaro i sociala medier med redan över miljontals views. Den snabbt växande fanbasen vittnar om en stor förväntan inför det som komma skall. Masken hon bär är inte för anonymitet utan ett statement. Ett sätt att ta kontroll över sin berättelse\, skapa på sina villkor och samtidigt belysa kampen mot näthat. \nVi är otroligt glada att kunna presentera Felicia på Byggets Scen i samarbete med Rix FM i Fjällen 2026! \nLördag 28 Mars \nInsläpp från 22.00 \nÅlder: 20 år
URL:https://bygget.se/event/rix-fm-i-fjallen-med-felicia/
LOCATION:Bygget\, Årevägen 172A\, Åre\, 83752\, Sverige
CATEGORIES:Featured,Live,Nattklubb,Rix FM
ATTACH;FMTTYPE=image/png:https://bygget.se/wp-content/uploads/2026/03/RixFM_Banner.png
END:VEVENT
END:VCALENDAR